Workbook

Sheet Dati docenze
A1: inserire nome e cognome | B1: Nome Cognome | D1: Nome Cognome | F1: Nome Cognome | H1: Nome Cognome | J1: Nome Cognome | L1: Nome Cognome | N1: Nome Cognome | P1: Nome Cognome | R1: Nome Cognome | T1: Nome Cognome | V1: Nome Cognome
A2: selezionare dal menu | B2: ------ | C2: Seleziona | D2: ------ | E2: Seleziona | F2: ------ | G2: Seleziona | H2: ------ | I2: Seleziona | J2: ------ | K2: Seleziona | L2: ------ | M2: Seleziona | N2: ------ | P2: ------ | R2: ------ | T2: ------ | V2: ------
A3: GIORNO DI CORSO (immettere la data) | B3: docenza | C3: assistenza | D3: docenza | E3: assistenza | F3: docenza | G3: assistenza | H3: docenza | I3: assistenza | J3: docenza | K3: assistenza | L3: docenza | M3: assistenza | N3: docenza | O3: assistenza | P3: docenza | Q3: assistenza | R3: docenza | S3: assistenza | T3: docenza | U3: assistenza | V3: docenza | W3: assistenza
A4: 45946 | B4: 0 | C4: 0 | D4: 0 | E4: 0 | F4: 0 | G4: 0 | H4: 0 | I4: 0 | J4: 0 | K4: 0 | L4: 0 | M4: 0 | N4: 0 | O4: 0 | P4: 0 | Q4: 0 | R4: 0 | S4: 0 | T4: 0 | U4: 0 | V4: 0 | W4: 0
A5: 45947 | B5: 0 | C5: 0 | D5: 0 | E5: 0 | F5: 0 | G5: 0 | H5: 0 | I5: 0 | J5: 0 | K5: 0 | L5: 0 | M5: 0 | N5: 0 | O5: 0 | P5: 0 | Q5: 0 | R5: 0 | S5: 0 | T5: 0 | U5: 0 | V5: 0 | W5: 0
B6: 0 | C6: 0 | D6: 0 | E6: 0 | F6: 0 | G6: 0 | H6: 0 | I6: 0 | J6: 0 | K6: 0 | L6: 0 | M6: 0 | N6: 0 | O6: 0 | P6: 0 | Q6: 0 | R6: 0 | S6: 0 | T6: 0 | U6: 0 | V6: 0 | W6: 0
B7: 0 | C7: 0 | D7: 0 | E7: 0 | F7: 0 | G7: 0 | H7: 0 | I7: 0 | J7: 0 | K7: 0 | L7: 0 | M7: 0 | N7: 0 | O7: 0 | P7: 0 | Q7: 0 | R7: 0 | S7: 0 | T7: 0 | U7: 0 | V7: 0 | W7: 0
B8: 0 | C8: 0 | D8: 0 | E8: 0 | F8: 0 | G8: 0 | H8: 0 | I8: 0 | J8: 0 | K8: 0 | L8: 0 | M8: 0 | N8: 0 | O8: 0 | P8: 0 | Q8: 0 | R8: 0 | S8: 0 | T8: 0 | U8: 0 | V8: 0 | W8: 0
B9: 0 | C9: 0 | D9: 0 | E9: 0 | F9: 0 | G9: 0 | H9: 0 | I9: 0 | J9: 0 | K9: 0 | L9: 0 | M9: 0 | N9: 0 | O9: 0 | P9: 0 | Q9: 0 | R9: 0 | S9: 0 | T9: 0 | U9: 0 | V9: 0 | W9: 0
B10: 0 | C10: 0 | D10: 0 | E10: 0 | F10: 0 | G10: 0 | H10: 0 | I10: 0 | J10: 0 | K10: 0 | L10: 0 | M10: 0 | N10: 0 | O10: 0 | P10: 0 | Q10: 0 | R10: 0 | S10: 0 | T10: 0 | U10: 0 | V10: 0 | W10: 0
B11: 0 | C11: 0 | D11: 0 | E11: 0 | F11: 0 | G11: 0 | H11: 0 | I11: 0 | J11: 0 | K11: 0 | L11: 0 | M11: 0 | N11: 0 | O11: 0 | P11: 0 | Q11: 0 | R11: 0 | S11: 0 | T11: 0 | U11: 0 | V11: 0 | W11: 0
B12: 0 | C12: 0 | D12: 0 | E12: 0 | F12: 0 | G12: 0 | H12: 0 | I12: 0 | J12: 0 | K12: 0 | L12: 0 | M12: 0 | N12: 0 | O12: 0 | P12: 0 | Q12: 0 | R12: 0 | S12: 0 | T12: 0 | U12: 0 | V12: 0 | W12: 0
A13: totali parziali (valore automatico) | B13: =SUM(B4:B12)*IF(OR(B2="TECNOLOGO",B2="AR",B2="ASSOCIATO TECNOLOGICO",B2="RICERCATORE",B2="ASSEGNO RICERCA"),Foglio2!$B$18,IF(B2="------","0,00",Foglio2!$D$18)) -> 0 | C13: =SUM(C4:C12)*IF(OR(B2="TECNOLOGO",B2="AR",B2="ASSOCIATO TECNOLOGICO",B2="RICERCATORE",B2="ASSEGNO RICERCA"),Foglio2!$B$17,IF(B2="------","0,00",Foglio2!$D$17)) -> 0 | D13: =SUM(D4:D12)*IF(OR(D2="TECNOLOGO",D2="AR",D2="ASSOCIATO TECNOLOGICO",D2="RICERCATORE",D2="ASSEGNO RICERCA"),Foglio2!$B$18,IF(D2="------","0,00",Foglio2!$D$18)) -> 0 | E13: =SUM(E4:E12)*IF(OR(D2="TECNOLOGO",D2="AR",D2="ASSOCIATO TECNOLOGICO",D2="RICERCATORE",D2="ASSEGNO RICERCA"),Foglio2!$B$17,IF(D2="------","0,00",Foglio2!$D$17)) -> 0 | F13: =SUM(F4:F12)*IF(OR(F2="TECNOLOGO",F2="AR",F2="ASSOCIATO TECNOLOGICO",F2="RICERCATORE",F2="ASSEGNO RICERCA"),Foglio2!$B$18,IF(F2="------","0,00",Foglio2!$D$18)) -> 0 | G13: =SUM(G4:G12)*IF(OR(F2="TECNOLOGO",F2="AR",F2="ASSOCIATO TECNOLOGICO",F2="RICERCATORE",F2="ASSEGNO RICERCA"),Foglio2!$B$17,IF(F2="------","0,00",Foglio2!$D$17)) -> 0 | H13: =SUM(H4:H12)*IF(OR(H2="TECNOLOGO",H2="AR",H2="ASSOCIATO TECNOLOGICO",H2="RICERCATORE",H2="ASSEGNO RICERCA"),Foglio2!$B$18,IF(H2="------","0,00",Foglio2!$D$18)) -> 0 | I13: =SUM(I4:I12)*IF(OR(H2="TECNOLOGO",H2="AR",H2="ASSOCIATO TECNOLOGICO",H2="RICERCATORE",H2="ASSEGNO RICERCA"),Foglio2!$B$17,IF(H2="------","0,00",Foglio2!$D$17)) -> 0 | J13: =SUM(J4:J12)*IF(OR(J2="TECNOLOGO",J2="AR",J2="ASSOCIATO TECNOLOGICO",J2="RICERCATORE",J2="ASSEGNO RICERCA"),Foglio2!$B$18,IF(J2="------","0,00",Foglio2!$D$18)) -> 0 | K13: =SUM(K4:K12)*IF(OR(J2="TECNOLOGO",J2="AR",J2="ASSOCIATO TECNOLOGICO",J2="RICERCATORE",J2="ASSEGNO RICERCA"),Foglio2!$B$17,IF(J2="------","0,00",Foglio2!$D$17)) -> 0 | L13: =SUM(L4:L12)*IF(OR(L2="TECNOLOGO",L2="AR",L2="ASSOCIATO TECNOLOGICO",L2="RICERCATORE",L2="ASSEGNO RICERCA"),Foglio2!$B$18,IF(L2="------","0,00",Foglio2!$D$18)) -> 0 | M13: =SUM(M4:M12)*IF(OR(L2="TECNOLOGO",L2="AR",L2="ASSOCIATO TECNOLOGICO",L2="RICERCATORE",L2="ASSEGNO RICERCA"),Foglio2!$B$17,IF(L2="------","0,00",Foglio2!$D$17)) -> 0 | N13: =SUM(N4:N12)*IF(OR(N2="TECNOLOGO",N2="AR",N2="ASSOCIATO TECNOLOGICO",N2="RICERCATORE",N2="ASSEGNO RICERCA"),Foglio2!$B$18,IF(N2="------","0,00",Foglio2!$D$18)) -> 0 | O13: =SUM(O4:O12)*IF(OR(N2="TECNOLOGO",N2="AR",N2="ASSOCIATO TECNOLOGICO",N2="RICERCATORE",N2="ASSEGNO RICERCA"),Foglio2!$B$17,IF(N2="------","0,00",Foglio2!$D$17)) -> 0 | P13: =SUM(P4:P12)*IF(OR(P2="TECNOLOGO",P2="AR",P2="ASSOCIATO TECNOLOGICO",P2="RICERCATORE",P2="ASSEGNO RICERCA"),Foglio2!$B$18,IF(P2="------","0,00",Foglio2!$D$18)) -> 0 | Q13: =SUM(Q4:Q12)*IF(OR(P2="TECNOLOGO",P2="AR",P2="ASSOCIATO TECNOLOGICO",P2="RICERCATORE",P2="ASSEGNO RICERCA"),Foglio2!$B$17,IF(P2="------","0,00",Foglio2!$D$17)) -> 0 | R13: =SUM(R4:R12)*IF(OR(R2="TECNOLOGO",R2="AR",R2="ASSOCIATO TECNOLOGICO",R2="RICERCATORE",R2="ASSEGNO RICERCA"),Foglio2!$B$18,IF(R2="------","0,00",Foglio2!$D$18)) -> 0 | S13: =SUM(S4:S12)*IF(OR(R2="TECNOLOGO",R2="AR",R2="ASSOCIATO TECNOLOGICO",R2="RICERCATORE",R2="ASSEGNO RICERCA"),Foglio2!$B$17,IF(R2="------","0,00",Foglio2!$D$17)) -> 0 | T13: =SUM(T4:T12)*IF(OR(T2="TECNOLOGO",T2="AR",T2="ASSOCIATO TECNOLOGICO",T2="RICERCATORE",T2="ASSEGNO RICERCA"),Foglio2!$B$18,IF(T2="------","0,00",Foglio2!$D$18)) -> 0 | U13: =SUM(U4:U12)*IF(OR(T2="TECNOLOGO",T2="AR",T2="ASSOCIATO TECNOLOGICO",T2="RICERCATORE",T2="ASSEGNO RICERCA"),Foglio2!$B$17,IF(T2="------","0,00",Foglio2!$D$17)) -> 0 | V13: =SUM(V4:V12)*IF(OR(V2="TECNOLOGO",V2="AR",V2="ASSOCIATO TECNOLOGICO",V2="RICERCATORE",V2="ASSEGNO RICERCA"),Foglio2!$B$18,IF(V2="------","0,00",Foglio2!$D$18)) -> 0 | W13: =SUM(W4:W12)*IF(OR(V2="TECNOLOGO",V2="AR",V2="ASSOCIATO TECNOLOGICO",V2="RICERCATORE",V2="ASSEGNO RICERCA"),Foglio2!$B$17,IF(V2="------","0,00",Foglio2!$D$17)) -> 0
A14: totali (valore automatico) | B14: =ROUND(SUM(B13,C13),2) -> 0 | D14: =ROUND(SUM(D13,E13),2) -> 0 | F14: =ROUND(SUM(F13,G13),2) -> 0 | H14: =ROUND(SUM(H13,I13),2) -> 0 | J14: =ROUND(SUM(J13,K13),2) -> 0 | L14: =ROUND(SUM(L13,M13),2) -> 0 | N14: =ROUND(SUM(N13,O13),2) -> 0 | P14: =ROUND(SUM(P13,Q13),2) -> 0 | R14: =ROUND(SUM(R13,S13),2) -> 0 | T14: =ROUND(SUM(T13,U13),2) -> 0 | V14: =ROUND(SUM(V13,W13),2) -> 0
B15: *qualora non fosse possibile conoscere il profilo indicare NON SO, i conteggi verranno comunque controllati ed eventualmente corretti dall'Ufficio Formazione
A17: Nominativo | B17: Compenso orario | C17: DOCENZA | D17: ASSISTENZA (al 50%) | E17: Costo complessivo | H17: Note
A18: =B1 -> Nome Cognome | B18: =IF(OR(B2="TECNOLOGO",B2="AR",B2="ASSOCIATO TECNOLOGICO",B2="RICERCATORE",B2="ASSEGNO RICERCA"),Foglio2!$B$18,IF(B2="------","",Foglio2!$D$18)) | C18: =SUM(B4:B12) -> 0 | D18: =SUM(C4:C12) -> 0 | E18: =IF(B14=0,IF(B2="COMPENSO NON PREVISTO","COMPENSO NON PREVISTO","COMPENSO NON RICHIESTO"),B14) -> COMPENSO NON RICHIESTO | H18: 1) Nel caso di docenti ESTERNI occorre MODULO DI INQUADRAMENTO FISCALE e CV breve
A19: =D1 -> Nome Cognome | B19: =IF(OR(D2="TECNOLOGO",D2="ASSEGNO RICERCA",D2="ASSOCIATO TECNOLOGICO",D2="RICERCATORE"),Foglio2!$B$18,IF(D2="------","",Foglio2!$D$18)) | C19: =SUM(D4:D12) -> 0 | D19: =SUM(E4:E12) -> 0 | E19: =IF(D14=0,IF(D2="COMPENSO NON PREVISTO","COMPENSO NON PREVISTO","COMPENSO NON RICHIESTO"),D14) -> COMPENSO NON RICHIESTO | H19: 2) Nel caso di docenti ASSOCIATI va richiesto il MODULO DI INQUADRAMENTO FISCALE
A20: =F1 -> Nome Cognome | B20: =IF(OR(F2="TECNOLOGO",F2="ASSEGNO RICERCA",F2="ASSOCIATO TECNOLOGICO",F2="RICERCATORE"),Foglio2!$B$18,IF(F2="------","",Foglio2!$D$18)) | C20: =SUM(F4:F12) -> 0 | D20: =SUM(G4:G12) -> 0 | E20: =IF(F14=0,IF(F2="COMPENSO NON PREVISTO","COMPENSO NON PREVISTO","COMPENSO NON RICHIESTO"),F14) -> COMPENSO NON RICHIESTO | H20: 3) Nel caso di docenti ASSEGNISTI/BORSISTI la cui docenza NON è strettamente correlata all'attività che svolge per l'INFN, va richiesto il MODULO DI INQUADRAMENTO FISCALE
A21: =H1 -> Nome Cognome | B21: =IF(OR(H2="TECNOLOGO",H2="ASSEGNO RICERCA",H2="ASSOCIATO TECNOLOGICO",H2="RICERCATORE"),Foglio2!$B$18,IF(H2="------","",Foglio2!$D$18)) | C21: =SUM(H4:H12) -> 0 | D21: =SUM(I4:I12) -> 0 | E21: =IF(H14=0,IF(H2="COMPENSO NON PREVISTO","COMPENSO NON PREVISTO","COMPENSO NON RICHIESTO"),H14) -> COMPENSO NON RICHIESTO
A22: =J1 -> Nome Cognome | B22: =IF(OR(J2="TECNOLOGO",J2="ASSEGNO RICERCA",J2="ASSOCIATO TECNOLOGICO",J2="RICERCATORE"),Foglio2!$B$18,IF(J2="------","",Foglio2!$D$18)) | C22: =SUM(J4:J12) -> 0 | D22: =SUM(K4:K12) -> 0 | E22: =IF(J14=0,IF(J2="COMPENSO NON PREVISTO","COMPENSO NON PREVISTO","COMPENSO NON RICHIESTO"),J14) -> COMPENSO NON RICHIESTO
A23: =L1 -> Nome Cognome | B23: =IF(OR(L2="TECNOLOGO",L2="ASSEGNO RICERCA",L2="ASSOCIATO TECNOLOGICO",L2="RICERCATORE"),Foglio2!$B$18,IF(L2="------","",Foglio2!$D$18)) | C23: =SUM(L4:L12) -> 0 | D23: =SUM(M4:M12) -> 0 | E23: =IF(L14=0,IF(L2="COMPENSO NON PREVISTO","COMPENSO NON PREVISTO","COMPENSO NON RICHIESTO"),L14) -> COMPENSO NON RICHIESTO
A24: =N1 -> Nome Cognome | B24: =IF(OR(N2="TECNOLOGO",N2="ASSEGNO RICERCA",N2="ASSOCIATO TECNOLOGICO",N2="RICERCATORE"),Foglio2!$B$18,IF(N2="------","",Foglio2!$D$18)) | C24: =SUM(N4:N12) -> 0 | D24: =SUM(O4:O12) -> 0 | E24: =IF(N14=0,IF(N2="COMPENSO NON PREVISTO","COMPENSO NON PREVISTO","COMPENSO NON RICHIESTO"),N14) -> COMPENSO NON RICHIESTO
A25: =P1 -> Nome Cognome | B25: =IF(OR(P2="TECNOLOGO",P2="ASSEGNO RICERCA",P2="ASSOCIATO TECNOLOGICO",P2="RICERCATORE"),Foglio2!$B$18,IF(P2="------","",Foglio2!$D$18)) | C25: =SUM(P4:P12) -> 0 | D25: =SUM(Q4:Q12) -> 0 | E25: =IF(P14=0,IF(P2="COMPENSO NON PREVISTO","COMPENSO NON PREVISTO","COMPENSO NON RICHIESTO"),P14) -> COMPENSO NON RICHIESTO
A26: =R1 -> Nome Cognome | B26: =IF(OR(R2="TECNOLOGO",R2="ASSEGNO RICERCA",R2="ASSOCIATO TECNOLOGICO",R2="RICERCATORE"),Foglio2!$B$18,IF(R2="------","",Foglio2!$D$18)) | C26: =SUM(R4:R12) -> 0 | D26: =SUM(S4:S12) -> 0 | E26: =IF(R14=0,IF(R2="COMPENSO NON PREVISTO","COMPENSO NON PREVISTO","COMPENSO NON RICHIESTO"),R14) -> COMPENSO NON RICHIESTO
A27: =T1 -> Nome Cognome | B27: =IF(OR(T2="TECNOLOGO",T2="ASSEGNO RICERCA",T2="ASSOCIATO TECNOLOGICO",T2="RICERCATORE"),Foglio2!$B$18,IF(T2="------","",Foglio2!$D$18)) | C27: =SUM(T4:T12) -> 0 | D27: =SUM(U4:U12) -> 0 | E27: =IF(T14=0,IF(T2="COMPENSO NON PREVISTO","COMPENSO NON PREVISTO","COMPENSO NON RICHIESTO"),T14) -> COMPENSO NON RICHIESTO
A28: =V1 -> Nome Cognome | B28: =IF(OR(V2="TECNOLOGO",V2="ASSEGNO RICERCA",V2="ASSOCIATO TECNOLOGICO",V2="RICERCATORE"),Foglio2!$B$18,IF(V2="------","",Foglio2!$D$18)) | C28: =SUM(V4:V12) -> 0 | D28: =SUM(W4:W12) -> 0 | E28: =IF(V14=0,IF(V2="COMPENSO NON PREVISTO","COMPENSO NON PREVISTO","COMPENSO NON RICHIESTO"),V14) -> COMPENSO NON RICHIESTO
D29: =SUM(E18:E27) -> 0 | E29: TOTALE
B31: DOCENTI ESTERNI | H31: TOTALE SPESA DOCENTI | J31: =SUM(E18:E27)+D38 -> 0
B32: NOMINATIVO | C32: COMPENSO ONNICOMPRENSIVO
A33: 1) | B33: Nome e cognome | C33: Compenso
A34: 2) | B34: Nome e cognome | C34: Compenso
A35: 3) | B35: Nome e cognome | C35: Compenso
A36: 4) | B36: Nome e cognome | C36: Compenso
A37: 5) | B37: Nome e cognome | C37: Compenso
C38: Totale | D38: =SUM(C33:D37) -> 0

Sheet Dati docenze (altridocen
A1: inserire nome e cognome | B1: Nome Cognome | D1: Nome Cognome | F1: Nome Cognome | H1: Nome Cognome | J1: Nome Cognome | L1: Nome Cognome | N1: Nome Cognome | P1: Nome Cognome | R1: Nome Cognome | T1: Nome Cognome | V1: Nome Cognome
A2: selezionare dal menu | B2: ------ | C2: Seleziona | D2: ------ | E2: Seleziona | F2: ------ | G2: Seleziona | H2: ------ | I2: Seleziona | J2: ------ | K2: Seleziona | L2: ------ | M2: Seleziona | N2: ------ | P2: ------ | R2: ------ | T2: ------ | V2: ------
A3: GIORNO DI CORSO (immettere la data) | B3: docenza | C3: assistenza | D3: docenza | E3: assistenza | F3: docenza | G3: assistenza | H3: docenza | I3: assistenza | J3: docenza | K3: assistenza | L3: docenza | M3: assistenza | N3: docenza | O3: assistenza | P3: docenza | Q3: assistenza | R3: docenza | S3: assistenza | T3: docenza | U3: assistenza | V3: docenza | W3: assistenza
A4: 45946 | B4: 0 | C4: 0 | D4: 0 | E4: 0 | F4: 0 | G4: 0 | H4: 0 | I4: 0 | J4: 0 | K4: 0 | L4: 0 | M4: 0 | N4: 0 | O4: 0 | P4: 0 | Q4: 0 | R4: 0 | S4: 0 | T4: 0 | U4: 0 | V4: 0 | W4: 0
A5: 45947 | B5: 0 | C5: 0 | D5: 0 | E5: 0 | F5: 0 | G5: 0 | H5: 0 | I5: 0 | J5: 0 | K5: 0 | L5: 0 | M5: 0 | N5: 0 | O5: 0 | P5: 0 | Q5: 0 | R5: 0 | S5: 0 | T5: 0 | U5: 0 | V5: 0 | W5: 0
B6: 0 | C6: 0 | D6: 0 | E6: 0 | F6: 0 | G6: 0 | H6: 0 | I6: 0 | J6: 0 | K6: 0 | L6: 0 | M6: 0 | N6: 0 | O6: 0 | P6: 0 | Q6: 0 | R6: 0 | S6: 0 | T6: 0 | U6: 0 | V6: 0 | W6: 0
B7: 0 | C7: 0 | D7: 0 | E7: 0 | F7: 0 | G7: 0 | H7: 0 | I7: 0 | J7: 0 | K7: 0 | L7: 0 | M7: 0 | N7: 0 | O7: 0 | P7: 0 | Q7: 0 | R7: 0 | S7: 0 | T7: 0 | U7: 0 | V7: 0 | W7: 0
B8: 0 | C8: 0 | D8: 0 | E8: 0 | F8: 0 | G8: 0 | H8: 0 | I8: 0 | J8: 0 | K8: 0 | L8: 0 | M8: 0 | N8: 0 | O8: 0 | P8: 0 | Q8: 0 | R8: 0 | S8: 0 | T8: 0 | U8: 0 | V8: 0 | W8: 0
B9: 0 | C9: 0 | D9: 0 | E9: 0 | F9: 0 | G9: 0 | H9: 0 | I9: 0 | J9: 0 | K9: 0 | L9: 0 | M9: 0 | N9: 0 | O9: 0 | P9: 0 | Q9: 0 | R9: 0 | S9: 0 | T9: 0 | U9: 0 | V9: 0 | W9: 0
B10: 0 | C10: 0 | D10: 0 | E10: 0 | F10: 0 | G10: 0 | H10: 0 | I10: 0 | J10: 0 | K10: 0 | L10: 0 | M10: 0 | N10: 0 | O10: 0 | P10: 0 | Q10: 0 | R10: 0 | S10: 0 | T10: 0 | U10: 0 | V10: 0 | W10: 0
B11: 0 | C11: 0 | D11: 0 | E11: 0 | F11: 0 | G11: 0 | H11: 0 | I11: 0 | J11: 0 | K11: 0 | L11: 0 | M11: 0 | N11: 0 | O11: 0 | P11: 0 | Q11: 0 | R11: 0 | S11: 0 | T11: 0 | U11: 0 | V11: 0 | W11: 0
B12: 0 | C12: 0 | D12: 0 | E12: 0 | F12: 0 | G12: 0 | H12: 0 | I12: 0 | J12: 0 | K12: 0 | L12: 0 | M12: 0 | N12: 0 | O12: 0 | P12: 0 | Q12: 0 | R12: 0 | S12: 0 | T12: 0 | U12: 0 | V12: 0 | W12: 0
A13: totali parziali (valore automatico) | B13: =SUM(B4:B12)*IF(OR(B2="TECNOLOGO",B2="AR",B2="ASSOCIATO TECNOLOGICO",B2="RICERCATORE",B2="ASSEGNO RICERCA"),Foglio2!$B$18,IF(B2="------","0,00",Foglio2!$D$18)) -> 0 | C13: =SUM(C4:C12)*IF(OR(B2="TECNOLOGO",B2="AR",B2="ASSOCIATO TECNOLOGICO",B2="RICERCATORE",B2="ASSEGNO RICERCA"),Foglio2!$B$17,IF(B2="------","0,00",Foglio2!$D$17)) -> 0 | D13: =SUM(D4:D12)*IF(OR(D2="TECNOLOGO",D2="AR",D2="ASSOCIATO TECNOLOGICO",D2="RICERCATORE",D2="ASSEGNO RICERCA"),Foglio2!$B$18,IF(D2="------","0,00",Foglio2!$D$18)) -> 0 | E13: =SUM(E4:E12)*IF(OR(D2="TECNOLOGO",D2="AR",D2="ASSOCIATO TECNOLOGICO",D2="RICERCATORE",D2="ASSEGNO RICERCA"),Foglio2!$B$17,IF(D2="------","0,00",Foglio2!$D$17)) -> 0 | F13: =SUM(F4:F12)*IF(OR(F2="TECNOLOGO",F2="AR",F2="ASSOCIATO TECNOLOGICO",F2="RICERCATORE",F2="ASSEGNO RICERCA"),Foglio2!$B$18,IF(F2="------","0,00",Foglio2!$D$18)) -> 0 | G13: =SUM(G4:G12)*IF(OR(F2="TECNOLOGO",F2="AR",F2="ASSOCIATO TECNOLOGICO",F2="RICERCATORE",F2="ASSEGNO RICERCA"),Foglio2!$B$17,IF(F2="------","0,00",Foglio2!$D$17)) -> 0 | H13: =SUM(H4:H12)*IF(OR(H2="TECNOLOGO",H2="AR",H2="ASSOCIATO TECNOLOGICO",H2="RICERCATORE",H2="ASSEGNO RICERCA"),Foglio2!$B$18,IF(H2="------","0,00",Foglio2!$D$18)) -> 0 | I13: =SUM(I4:I12)*IF(OR(H2="TECNOLOGO",H2="AR",H2="ASSOCIATO TECNOLOGICO",H2="RICERCATORE",H2="ASSEGNO RICERCA"),Foglio2!$B$17,IF(H2="------","0,00",Foglio2!$D$17)) -> 0 | J13: =SUM(J4:J12)*IF(OR(J2="TECNOLOGO",J2="AR",J2="ASSOCIATO TECNOLOGICO",J2="RICERCATORE",J2="ASSEGNO RICERCA"),Foglio2!$B$18,IF(J2="------","0,00",Foglio2!$D$18)) -> 0 | K13: =SUM(K4:K12)*IF(OR(J2="TECNOLOGO",J2="AR",J2="ASSOCIATO TECNOLOGICO",J2="RICERCATORE",J2="ASSEGNO RICERCA"),Foglio2!$B$17,IF(J2="------","0,00",Foglio2!$D$17)) -> 0 | L13: =SUM(L4:L12)*IF(OR(L2="TECNOLOGO",L2="AR",L2="ASSOCIATO TECNOLOGICO",L2="RICERCATORE",L2="ASSEGNO RICERCA"),Foglio2!$B$18,IF(L2="------","0,00",Foglio2!$D$18)) -> 0 | M13: =SUM(M4:M12)*IF(OR(L2="TECNOLOGO",L2="AR",L2="ASSOCIATO TECNOLOGICO",L2="RICERCATORE",L2="ASSEGNO RICERCA"),Foglio2!$B$17,IF(L2="------","0,00",Foglio2!$D$17)) -> 0 | N13: =SUM(N4:N12)*IF(OR(N2="TECNOLOGO",N2="AR",N2="ASSOCIATO TECNOLOGICO",N2="RICERCATORE",N2="ASSEGNO RICERCA"),Foglio2!$B$18,IF(N2="------","0,00",Foglio2!$D$18)) -> 0 | O13: =SUM(O4:O12)*IF(OR(N2="TECNOLOGO",N2="AR",N2="ASSOCIATO TECNOLOGICO",N2="RICERCATORE",N2="ASSEGNO RICERCA"),Foglio2!$B$17,IF(N2="------","0,00",Foglio2!$D$17)) -> 0 | P13: =SUM(P4:P12)*IF(OR(P2="TECNOLOGO",P2="AR",P2="ASSOCIATO TECNOLOGICO",P2="RICERCATORE",P2="ASSEGNO RICERCA"),Foglio2!$B$18,IF(P2="------","0,00",Foglio2!$D$18)) -> 0 | Q13: =SUM(Q4:Q12)*IF(OR(P2="TECNOLOGO",P2="AR",P2="ASSOCIATO TECNOLOGICO",P2="RICERCATORE",P2="ASSEGNO RICERCA"),Foglio2!$B$17,IF(P2="------","0,00",Foglio2!$D$17)) -> 0 | R13: =SUM(R4:R12)*IF(OR(R2="TECNOLOGO",R2="AR",R2="ASSOCIATO TECNOLOGICO",R2="RICERCATORE",R2="ASSEGNO RICERCA"),Foglio2!$B$18,IF(R2="------","0,00",Foglio2!$D$18)) -> 0 | S13: =SUM(S4:S12)*IF(OR(R2="TECNOLOGO",R2="AR",R2="ASSOCIATO TECNOLOGICO",R2="RICERCATORE",R2="ASSEGNO RICERCA"),Foglio2!$B$17,IF(R2="------","0,00",Foglio2!$D$17)) -> 0 | T13: =SUM(T4:T12)*IF(OR(T2="TECNOLOGO",T2="AR",T2="ASSOCIATO TECNOLOGICO",T2="RICERCATORE",T2="ASSEGNO RICERCA"),Foglio2!$B$18,IF(T2="------","0,00",Foglio2!$D$18)) -> 0 | U13: =SUM(U4:U12)*IF(OR(T2="TECNOLOGO",T2="AR",T2="ASSOCIATO TECNOLOGICO",T2="RICERCATORE",T2="ASSEGNO RICERCA"),Foglio2!$B$17,IF(T2="------","0,00",Foglio2!$D$17)) -> 0 | V13: =SUM(V4:V12)*IF(OR(V2="TECNOLOGO",V2="AR",V2="ASSOCIATO TECNOLOGICO",V2="RICERCATORE",V2="ASSEGNO RICERCA"),Foglio2!$B$18,IF(V2="------","0,00",Foglio2!$D$18)) -> 0 | W13: =SUM(W4:W12)*IF(OR(V2="TECNOLOGO",V2="AR",V2="ASSOCIATO TECNOLOGICO",V2="RICERCATORE",V2="ASSEGNO RICERCA"),Foglio2!$B$17,IF(V2="------","0,00",Foglio2!$D$17)) -> 0
A14: totali (valore automatico) | B14: =ROUND(SUM(B13,C13),2) -> 0 | D14: =ROUND(SUM(D13,E13),2) -> 0 | F14: =ROUND(SUM(F13,G13),2) -> 0 | H14: =ROUND(SUM(H13,I13),2) -> 0 | J14: =ROUND(SUM(J13,K13),2) -> 0 | L14: =ROUND(SUM(L13,M13),2) -> 0 | N14: =ROUND(SUM(N13,O13),2) -> 0 | P14: =ROUND(SUM(P13,Q13),2) -> 0 | R14: =ROUND(SUM(R13,S13),2) -> 0 | T14: =ROUND(SUM(T13,U13),2) -> 0 | V14: =ROUND(SUM(V13,W13),2) -> 0
B15: *qualora non fosse possibile conoscere il profilo indicare NON SO, i conteggi verranno comunque controllati ed eventualmente corretti dall'Ufficio Formazione
A17: Nominativo | B17: Compenso orario | C17: DOCENZA | D17: ASSISTENZA (al 50%) | E17: Costo complessivo | H17: Note
A18: =B1 -> Nome Cognome | B18: =IF(OR(B2="TECNOLOGO",B2="AR",B2="ASSOCIATO TECNOLOGICO",B2="RICERCATORE",B2="ASSEGNO RICERCA"),Foglio2!$B$18,IF(B2="------","",Foglio2!$D$18)) | C18: =SUM(B4:B12) -> 0 | D18: =SUM(C4:C12) -> 0 | E18: =IF(B14=0,IF(B2="COMPENSO NON PREVISTO","COMPENSO NON PREVISTO","COMPENSO NON RICHIESTO"),B14) -> COMPENSO NON RICHIESTO | H18: 1) Nel caso di docenti ESTERNI occorre MODULO DI INQUADRAMENTO FISCALE e CV breve
A19: =D1 -> Nome Cognome | B19: =IF(OR(D2="TECNOLOGO",D2="ASSEGNO RICERCA",D2="ASSOCIATO TECNOLOGICO",D2="RICERCATORE"),Foglio2!$B$18,IF(D2="------","",Foglio2!$D$18)) | C19: =SUM(D4:D12) -> 0 | D19: =SUM(E4:E12) -> 0 | E19: =IF(D14=0,IF(D2="COMPENSO NON PREVISTO","COMPENSO NON PREVISTO","COMPENSO NON RICHIESTO"),D14) -> COMPENSO NON RICHIESTO | H19: 2) Nel caso di docenti ASSOCIATI va richiesto il MODULO DI INQUADRAMENTO FISCALE
A20: =F1 -> Nome Cognome | B20: =IF(OR(F2="TECNOLOGO",F2="ASSEGNO RICERCA",F2="ASSOCIATO TECNOLOGICO",F2="RICERCATORE"),Foglio2!$B$18,IF(F2="------","",Foglio2!$D$18)) | C20: =SUM(F4:F12) -> 0 | D20: =SUM(G4:G12) -> 0 | E20: =IF(F14=0,IF(F2="COMPENSO NON PREVISTO","COMPENSO NON PREVISTO","COMPENSO NON RICHIESTO"),F14) -> COMPENSO NON RICHIESTO | H20: 3) Nel caso di docenti ASSEGNISTI/BORSISTI la cui docenza NON è strettamente correlata all'attività che svolge per l'INFN, va richiesto il MODULO DI INQUADRAMENTO FISCALE
A21: =H1 -> Nome Cognome | B21: =IF(OR(H2="TECNOLOGO",H2="ASSEGNO RICERCA",H2="ASSOCIATO TECNOLOGICO",H2="RICERCATORE"),Foglio2!$B$18,IF(H2="------","",Foglio2!$D$18)) | C21: =SUM(H4:H12) -> 0 | D21: =SUM(I4:I12) -> 0 | E21: =IF(H14=0,IF(H2="COMPENSO NON PREVISTO","COMPENSO NON PREVISTO","COMPENSO NON RICHIESTO"),H14) -> COMPENSO NON RICHIESTO
A22: =J1 -> Nome Cognome | B22: =IF(OR(J2="TECNOLOGO",J2="ASSEGNO RICERCA",J2="ASSOCIATO TECNOLOGICO",J2="RICERCATORE"),Foglio2!$B$18,IF(J2="------","",Foglio2!$D$18)) | C22: =SUM(J4:J12) -> 0 | D22: =SUM(K4:K12) -> 0 | E22: =IF(J14=0,IF(J2="COMPENSO NON PREVISTO","COMPENSO NON PREVISTO","COMPENSO NON RICHIESTO"),J14) -> COMPENSO NON RICHIESTO
A23: =L1 -> Nome Cognome | B23: =IF(OR(L2="TECNOLOGO",L2="ASSEGNO RICERCA",L2="ASSOCIATO TECNOLOGICO",L2="RICERCATORE"),Foglio2!$B$18,IF(L2="------","",Foglio2!$D$18)) | C23: =SUM(L4:L12) -> 0 | D23: =SUM(M4:M12) -> 0 | E23: =IF(L14=0,IF(L2="COMPENSO NON PREVISTO","COMPENSO NON PREVISTO","COMPENSO NON RICHIESTO"),L14) -> COMPENSO NON RICHIESTO
A24: =N1 -> Nome Cognome | B24: =IF(OR(N2="TECNOLOGO",N2="ASSEGNO RICERCA",N2="ASSOCIATO TECNOLOGICO",N2="RICERCATORE"),Foglio2!$B$18,IF(N2="------","",Foglio2!$D$18)) | C24: =SUM(N4:N12) -> 0 | D24: =SUM(O4:O12) -> 0 | E24: =IF(N14=0,IF(N2="COMPENSO NON PREVISTO","COMPENSO NON PREVISTO","COMPENSO NON RICHIESTO"),N14) -> COMPENSO NON RICHIESTO
A25: =P1 -> Nome Cognome | B25: =IF(OR(P2="TECNOLOGO",P2="ASSEGNO RICERCA",P2="ASSOCIATO TECNOLOGICO",P2="RICERCATORE"),Foglio2!$B$18,IF(P2="------","",Foglio2!$D$18)) | C25: =SUM(P4:P12) -> 0 | D25: =SUM(Q4:Q12) -> 0 | E25: =IF(P14=0,IF(P2="COMPENSO NON PREVISTO","COMPENSO NON PREVISTO","COMPENSO NON RICHIESTO"),P14) -> COMPENSO NON RICHIESTO
A26: =R1 -> Nome Cognome | B26: =IF(OR(R2="TECNOLOGO",R2="ASSEGNO RICERCA",R2="ASSOCIATO TECNOLOGICO",R2="RICERCATORE"),Foglio2!$B$18,IF(R2="------","",Foglio2!$D$18)) | C26: =SUM(R4:R12) -> 0 | D26: =SUM(S4:S12) -> 0 | E26: =IF(R14=0,IF(R2="COMPENSO NON PREVISTO","COMPENSO NON PREVISTO","COMPENSO NON RICHIESTO"),R14) -> COMPENSO NON RICHIESTO
A27: =T1 -> Nome Cognome | B27: =IF(OR(T2="TECNOLOGO",T2="ASSEGNO RICERCA",T2="ASSOCIATO TECNOLOGICO",T2="RICERCATORE"),Foglio2!$B$18,IF(T2="------","",Foglio2!$D$18)) | C27: =SUM(T4:T12) -> 0 | D27: =SUM(U4:U12) -> 0 | E27: =IF(T14=0,IF(T2="COMPENSO NON PREVISTO","COMPENSO NON PREVISTO","COMPENSO NON RICHIESTO"),T14) -> COMPENSO NON RICHIESTO
A28: =V1 -> Nome Cognome | B28: =IF(OR(V2="TECNOLOGO",V2="ASSEGNO RICERCA",V2="ASSOCIATO TECNOLOGICO",V2="RICERCATORE"),Foglio2!$B$18,IF(V2="------","",Foglio2!$D$18)) | C28: =SUM(V4:V12) -> 0 | D28: =SUM(W4:W12) -> 0 | E28: =IF(V14=0,IF(V2="COMPENSO NON PREVISTO","COMPENSO NON PREVISTO","COMPENSO NON RICHIESTO"),V14) -> COMPENSO NON RICHIESTO
D29: =SUM(E18:E27) -> 0 | E29: TOTALE
B31: DOCENTI ESTERNI | H31: TOTALE SPESA DOCENTI | J31: =SUM(E18:E27)+D38 -> 0
B32: NOMINATIVO | C32: COMPENSO ONNICOMPRENSIVO
A33: 1) | B33: Nome e cognome | C33: Compenso
A34: 2) | B34: Nome e cognome | C34: Compenso
A35: 3) | B35: Nome e cognome | C35: Compenso
A36: 4) | B36: Nome e cognome | C36: Compenso
A37: 5) | B37: Nome e cognome | C37: Compenso
C38: Totale | D38: =SUM(C33:D37) -> 0

Sheet Foglio3
A1: =5*(103.29/2) -> 258.225 | B1: =6*(103.29/2) -> 309.87
A2: =10*103.29 -> 1032.9 | B2: =12*103.29 -> 1239.48
A3: =SUM(A1:A2) -> 1291.125 | B3: =SUM(B1:B2) -> 1549.35
C4: =SUM(A3:B3) -> 2840.475

Sheet Dati corso
A1: Titolo
A2: Numero disposizione
A3: Data disposizione
A4: Programmazione

Sheet lettere docenti
A1: particella | B1: particella persona | C1: Nominativo | D1: Corso | E1: Data corso | F1: numero disposizione | G1: data disposizione | H1: costo
A2: =IF('Dati docenze'!C2="UOMO","del","della") -> della | B2: =IF('Dati docenze'!C2="UOMO","Dr.","Dr.ssa") -> Dr.ssa | C2: ='Dati docenze'!A18 -> Nome Cognome | D2: ='Dati corso'!$B$1 -> 0 | E2: ='Dati corso'!$B$4 -> 0 | F2: ='Dati corso'!$B$2 -> 0 | G2: ='Dati corso'!$B$3 -> 0 | H2: ='Dati docenze'!E18 -> COMPENSO NON RICHIESTO
A3: =IF('Dati docenze'!E2="UOMO","del","della") -> della | B3: =IF('Dati docenze'!E2="UOMO","Dr.","Dr.ssa") -> Dr.ssa | C3: ='Dati docenze'!A19 -> Nome Cognome | D3: ='Dati corso'!$B$1 -> 0 | E3: ='Dati corso'!$B$4 -> 0 | F3: ='Dati corso'!$B$2 -> 0 | G3: ='Dati corso'!$B$3 -> 0 | H3: ='Dati docenze'!E19 -> COMPENSO NON RICHIESTO
A4: =IF('Dati docenze'!G2="UOMO","del","della") -> della | B4: =IF('Dati docenze'!G2="UOMO","Dr.","Dr.ssa") -> Dr.ssa | C4: ='Dati docenze'!A20 -> Nome Cognome | D4: ='Dati corso'!$B$1 -> 0 | E4: ='Dati corso'!$B$4 -> 0 | F4: ='Dati corso'!$B$2 -> 0 | G4: ='Dati corso'!$B$3 -> 0 | H4: ='Dati docenze'!E20 -> COMPENSO NON RICHIESTO
A5: =IF('Dati docenze'!I2="UOMO","del","della") -> della | B5: =IF('Dati docenze'!I2="UOMO","Dr.","Dr.ssa") -> Dr.ssa | C5: ='Dati docenze'!A21 -> Nome Cognome | D5: ='Dati corso'!$B$1 -> 0 | E5: ='Dati corso'!$B$4 -> 0 | F5: ='Dati corso'!$B$2 -> 0 | G5: ='Dati corso'!$B$3 -> 0 | H5: ='Dati docenze'!E21 -> COMPENSO NON RICHIESTO
A6: =IF('Dati docenze'!K2="UOMO","del","della") -> della | B6: =IF('Dati docenze'!K2="UOMO","Dr.","Dr.ssa") -> Dr.ssa | C6: ='Dati docenze'!A22 -> Nome Cognome | D6: ='Dati corso'!$B$1 -> 0 | E6: ='Dati corso'!$B$4 -> 0 | F6: ='Dati corso'!$B$2 -> 0 | G6: ='Dati corso'!$B$3 -> 0 | H6: ='Dati docenze'!E22 -> COMPENSO NON RICHIESTO
A7: =IF('Dati docenze'!M2="UOMO","del","della") -> della | B7: =IF('Dati docenze'!M2="UOMO","Dr.","Dr.ssa") -> Dr.ssa | C7: ='Dati docenze'!A23 -> Nome Cognome | D7: ='Dati corso'!$B$1 -> 0 | E7: ='Dati corso'!$B$4 -> 0 | F7: ='Dati corso'!$B$2 -> 0 | G7: ='Dati corso'!$B$3 -> 0 | H7: ='Dati docenze'!E23 -> COMPENSO NON RICHIESTO
A8: =IF('Dati docenze'!O2="UOMO","del","della") -> della | B8: =IF('Dati docenze'!O2="UOMO","Dr.","Dr.ssa") -> Dr.ssa | C8: ='Dati docenze'!A24 -> Nome Cognome | D8: ='Dati corso'!$B$1 -> 0 | E8: ='Dati corso'!$B$4 -> 0 | F8: ='Dati corso'!$B$2 -> 0 | G8: ='Dati corso'!$B$3 -> 0 | H8: ='Dati docenze'!E24 -> COMPENSO NON RICHIESTO
A9: =IF('Dati docenze'!Q2="UOMO","del","della") -> della | B9: =IF('Dati docenze'!Q2="UOMO","Dr.","Dr.ssa") -> Dr.ssa | C9: ='Dati docenze'!A25 -> Nome Cognome | D9: ='Dati corso'!$B$1 -> 0 | E9: ='Dati corso'!$B$4 -> 0 | F9: ='Dati corso'!$B$2 -> 0 | G9: ='Dati corso'!$B$3 -> 0 | H9: ='Dati docenze'!E25 -> COMPENSO NON RICHIESTO
A10: =IF('Dati docenze'!S2="UOMO","del","della") -> della | B10: =IF('Dati docenze'!S2="UOMO","Dr.","Dr.ssa") -> Dr.ssa | C10: ='Dati docenze'!A26 -> Nome Cognome | D10: ='Dati corso'!$B$1 -> 0 | E10: ='Dati corso'!$B$4 -> 0 | F10: ='Dati corso'!$B$2 -> 0 | G10: ='Dati corso'!$B$3 -> 0 | H10: ='Dati docenze'!E26 -> COMPENSO NON RICHIESTO
A11: =IF('Dati docenze'!U2="UOMO","del","della") -> della | B11: =IF('Dati docenze'!U2="UOMO","Dr.","Dr.ssa") -> Dr.ssa | C11: ='Dati docenze'!A27 -> Nome Cognome | D11: ='Dati corso'!$B$1 -> 0 | E11: ='Dati corso'!$B$4 -> 0 | F11: ='Dati corso'!$B$2 -> 0 | G11: ='Dati corso'!$B$3 -> 0 | H11: ='Dati docenze'!E27 -> COMPENSO NON RICHIESTO
A12: =IF('Dati docenze'!U3="UOMO","del","della") -> della | B12: =IF('Dati docenze'!W2="UOMO","Dr.","Dr.ssa") -> Dr.ssa | C12: ='Dati docenze'!A28 -> Nome Cognome | D12: ='Dati corso'!$B$1 -> 0 | E12: ='Dati corso'!$B$4 -> 0 | F12: ='Dati corso'!$B$2 -> 0 | G12: ='Dati corso'!$B$3 -> 0 | H12: ='Dati docenze'!E28 -> COMPENSO NON RICHIESTO
A13: =IF('Dati docenze (altridocen'!C13="UOMO","del","della") -> della | B13: =IF('Dati docenze (altridocen'!C13="UOMO","Dr.","Dr.ssa") -> Dr.ssa | C13: ='Dati docenze (altridocen'!$A$18 -> Nome Cognome | D13: ='Dati corso'!$B$1 -> 0 | E13: ='Dati corso'!$B$4 -> 0 | F13: ='Dati corso'!$B$2 -> 0 | G13: ='Dati corso'!$B$3 -> 0 | H13: ='Dati docenze (altridocen'!$E$18 -> COMPENSO NON RICHIESTO
A14: =IF('Dati docenze (altridocen'!E13="UOMO","del","della") -> della | B14: =IF('Dati docenze (altridocen'!E13="UOMO","Dr.","Dr.ssa") -> Dr.ssa | C14: ='Dati docenze (altridocen'!$A$19 -> Nome Cognome | D14: ='Dati corso'!$B$1 -> 0 | E14: ='Dati corso'!$B$4 -> 0 | F14: ='Dati corso'!$B$2 -> 0 | G14: ='Dati corso'!$B$3 -> 0 | H14: ='Dati docenze (altridocen'!$E$19 -> COMPENSO NON RICHIESTO
A15: =IF('Dati docenze (altridocen'!G13="UOMO","del","della") -> della | B15: =IF('Dati docenze (altridocen'!G13="UOMO","Dr.","Dr.ssa") -> Dr.ssa | C15: ='Dati docenze (altridocen'!$A$20 -> Nome Cognome | D15: ='Dati corso'!$B$1 -> 0 | E15: ='Dati corso'!$B$4 -> 0 | F15: ='Dati corso'!$B$2 -> 0 | G15: ='Dati corso'!$B$3 -> 0 | H15: ='Dati docenze (altridocen'!$E$20 -> COMPENSO NON RICHIESTO
A16: =IF('Dati docenze (altridocen'!I13="UOMO","del","della") -> della | B16: =IF('Dati docenze (altridocen'!I13="UOMO","Dr.","Dr.ssa") -> Dr.ssa | C16: ='Dati docenze (altridocen'!$A$21 -> Nome Cognome | D16: ='Dati corso'!$B$1 -> 0 | E16: ='Dati corso'!$B$4 -> 0 | F16: ='Dati corso'!$B$2 -> 0 | G16: ='Dati corso'!$B$3 -> 0 | H16: ='Dati docenze (altridocen'!$E$21 -> COMPENSO NON RICHIESTO
A17: =IF('Dati docenze (altridocen'!K13="UOMO","del","della") -> della | B17: =IF('Dati docenze (altridocen'!K13="UOMO","Dr.","Dr.ssa") -> Dr.ssa | C17: ='Dati docenze (altridocen'!$A$22 -> Nome Cognome | D17: ='Dati corso'!$B$1 -> 0 | E17: ='Dati corso'!$B$4 -> 0 | F17: ='Dati corso'!$B$2 -> 0 | G17: ='Dati corso'!$B$3 -> 0 | H17: ='Dati docenze (altridocen'!$E$22 -> COMPENSO NON RICHIESTO
A18: =IF('Dati docenze (altridocen'!M13="UOMO","del","della") -> della | B18: =IF('Dati docenze (altridocen'!M13="UOMO","Dr.","Dr.ssa") -> Dr.ssa | C18: ='Dati docenze (altridocen'!$A$23 -> Nome Cognome | D18: ='Dati corso'!$B$1 -> 0 | E18: ='Dati corso'!$B$4 -> 0 | F18: ='Dati corso'!$B$2 -> 0 | G18: ='Dati corso'!$B$3 -> 0 | H18: ='Dati docenze (altridocen'!$E$23 -> COMPENSO NON RICHIESTO
A19: =IF('Dati docenze (altridocen'!O13="UOMO","del","della") -> della | B19: =IF('Dati docenze (altridocen'!O13="UOMO","Dr.","Dr.ssa") -> Dr.ssa | C19: ='Dati docenze (altridocen'!$A$24 -> Nome Cognome | D19: ='Dati corso'!$B$1 -> 0 | E19: ='Dati corso'!$B$4 -> 0 | F19: ='Dati corso'!$B$2 -> 0 | G19: ='Dati corso'!$B$3 -> 0 | H19: ='Dati docenze (altridocen'!$E$24 -> COMPENSO NON RICHIESTO
A20: =IF('Dati docenze (altridocen'!Q13="UOMO","del","della") -> della | B20: =IF('Dati docenze (altridocen'!Q13="UOMO","Dr.","Dr.ssa") -> Dr.ssa | C20: ='Dati docenze (altridocen'!$A$25 -> Nome Cognome | D20: ='Dati corso'!$B$1 -> 0 | E20: ='Dati corso'!$B$4 -> 0 | F20: ='Dati corso'!$B$2 -> 0 | G20: ='Dati corso'!$B$3 -> 0 | H20: ='Dati docenze (altridocen'!$E$25 -> COMPENSO NON RICHIESTO
A21: =IF('Dati docenze (altridocen'!S13="UOMO","del","della") -> della | B21: =IF('Dati docenze (altridocen'!S13="UOMO","Dr.","Dr.ssa") -> Dr.ssa | C21: ='Dati docenze (altridocen'!$A$26 -> Nome Cognome | D21: ='Dati corso'!$B$1 -> 0 | E21: ='Dati corso'!$B$4 -> 0 | F21: ='Dati corso'!$B$2 -> 0 | G21: ='Dati corso'!$B$3 -> 0 | H21: ='Dati docenze (altridocen'!$E$26 -> COMPENSO NON RICHIESTO
A22: =IF('Dati docenze (altridocen'!U13="UOMO","del","della") -> della | B22: =IF('Dati docenze (altridocen'!U13="UOMO","Dr.","Dr.ssa") -> Dr.ssa | C22: ='Dati docenze (altridocen'!$A$27 -> Nome Cognome | D22: ='Dati corso'!$B$1 -> 0 | E22: ='Dati corso'!$B$4 -> 0 | F22: ='Dati corso'!$B$2 -> 0 | G22: ='Dati corso'!$B$3 -> 0 | H22: ='Dati docenze (altridocen'!$E$27 -> COMPENSO NON RICHIESTO
A23: =IF('Dati docenze (altridocen'!U14="UOMO","del","della") -> della | B23: =IF('Dati docenze (altridocen'!W13="UOMO","Dr.","Dr.ssa") -> Dr.ssa | C23: ='Dati docenze (altridocen'!$A$28 -> Nome Cognome | D23: ='Dati corso'!$B$1 -> 0 | E23: ='Dati corso'!$B$4 -> 0 | F23: ='Dati corso'!$B$2 -> 0 | G23: ='Dati corso'!$B$3 -> 0 | H23: ='Dati docenze (altridocen'!$E$28 -> COMPENSO NON RICHIESTO

Sheet Foglio2
A1: Tipologia | E1: Sesso
A2: ------ | E2: Seleziona
A3: ASSEGNO RICERCA | E3: Uomo
A4: FUNZIONARIO DI AMM. | E4: Donna
A5: COLL AMM
A6: CTER
A7: RICERCATORE
A8: TECNOLOGO
A9: ASSOCIATO TECNOLOGICO/RICERCATORE
A10: ASSOCIATO TECNICO
A11: NON SO
A12: COMPENSO NON RICHIESTO
A13: COMPENSO NON PREVISTO
A15: TECNOLOGO/RIC | C15: CTER
A16: lire | B16: euro | C16: lire | D16: euro
A17: 100000 | B17: =A17/1936.27 -> 51.64569 | C17: 60000 | D17: =C17/1936.27 -> 30.987414
A18: 200000 | B18: 103.29 | C18: 120000 | D18: 61.97
